BEGIN:VCALENDAR
VERSION:2.0
PRODID:-//Healing Arts Institute of South Florida - ECPv6.15.20//NONSGML v1.0//EN
CALSCALE:GREGORIAN
METHOD:PUBLISH
X-ORIGINAL-URL:https://healingartssfl.org
X-WR-CALDESC:Events for Healing Arts Institute of South Florida
REFRESH-INTERVAL;VALUE=DURATION:PT1H
X-Robots-Tag:noindex
X-PUBLISHED-TTL:PT1H
BEGIN:VTIMEZONE
TZID:UTC
BEGIN:STANDARD
TZOFFSETFROM:+0000
TZOFFSETTO:+0000
TZNAME:UTC
DTSTART:20210101T000000
END:STANDARD
END:VTIMEZONE
BEGIN:VTIMEZONE
TZID:America/New_York
BEGIN:DAYLIGHT
TZOFFSETFROM:-0500
TZOFFSETTO:-0400
TZNAME:EDT
DTSTART:20210314T070000
END:DAYLIGHT
BEGIN:STANDARD
TZOFFSETFROM:-0400
TZOFFSETTO:-0500
TZNAME:EST
DTSTART:20211107T060000
END:STANDARD
BEGIN:DAYLIGHT
TZOFFSETFROM:-0500
TZOFFSETTO:-0400
TZNAME:EDT
DTSTART:20220313T070000
END:DAYLIGHT
BEGIN:STANDARD
TZOFFSETFROM:-0400
TZOFFSETTO:-0500
TZNAME:EST
DTSTART:20221106T060000
END:STANDARD
BEGIN:DAYLIGHT
TZOFFSETFROM:-0500
TZOFFSETTO:-0400
TZNAME:EDT
DTSTART:20230312T070000
END:DAYLIGHT
BEGIN:STANDARD
TZOFFSETFROM:-0400
TZOFFSETTO:-0500
TZNAME:EST
DTSTART:20231105T060000
END:STANDARD
END:VTIMEZONE
BEGIN:VEVENT
DTSTART;TZID=UTC:20220514T100000
DTEND;TZID=UTC:20220514T140000
DTSTAMP:20260420T031050
CREATED:20220511T165916Z
LAST-MODIFIED:20220511T165916Z
UID:3311-1652522400-1652536800@healingartssfl.org
SUMMARY:Girls' Summit 2022: Our Time\, Our Future
DESCRIPTION:
URL:https://healingartssfl.org/event/girls-summit-2022-our-time-our-future/
LOCATION:E. Pat Larkins Community Center\, 520 NW 3rd St.\, Pompano Beach\, FL\, 33060\, United States
END:VEVENT
BEGIN:VEVENT
DTSTART;TZID=America/New_York:20220515T090000
DTEND;TZID=America/New_York:20220515T140000
DTSTAMP:20260420T031050
CREATED:20220511T164815Z
LAST-MODIFIED:20220511T172108Z
UID:3306-1652605200-1652623200@healingartssfl.org
SUMMARY:Tamarac Community Farmers Market
DESCRIPTION:
URL:https://healingartssfl.org/event/tamarac-community-farmers-market/
LOCATION:7825 Southgate Blvd.\, 7825 Southgate Blvd.\, Tamarac\, FL\, United States
END:VEVENT
BEGIN:VEVENT
DTSTART;TZID=America/New_York:20220521T070000
DTEND;TZID=America/New_York:20220521T160000
DTSTAMP:20260420T031050
CREATED:20220511T170613Z
LAST-MODIFIED:20220511T170613Z
UID:3316-1653116400-1653148800@healingartssfl.org
SUMMARY:5K Walk In My Shoes
DESCRIPTION:
URL:https://healingartssfl.org/event/5k-walk-in-my-shoes/
LOCATION:Quiet Water Park\, 401 Powerline Road\, Deerfield Beach\, FL\, 33441\, United States
ORGANIZER;CN="Change Me Foundation":MAILTO:walk@changemefoundation.com
END:VEVENT
BEGIN:VEVENT
DTSTART;TZID=America/New_York:20220522T090000
DTEND;TZID=America/New_York:20220522T140000
DTSTAMP:20260420T031050
CREATED:20220511T170900Z
LAST-MODIFIED:20220511T170900Z
UID:3321-1653210000-1653228000@healingartssfl.org
SUMMARY:Tamarac Community Farmers Market
DESCRIPTION:
URL:https://healingartssfl.org/event/tamarac-community-farmers-market-2/
LOCATION:7825 Southgate Blvd.\, 7825 Southgate Blvd.\, Tamarac\, FL\, United States
END:VEVENT
BEGIN:VEVENT
DTSTART;TZID=America/New_York:20220524T183000
DTEND;TZID=America/New_York:20220524T203000
DTSTAMP:20260420T031050
CREATED:20220523T150830Z
LAST-MODIFIED:20220523T150830Z
UID:3484-1653417000-1653424200@healingartssfl.org
SUMMARY:Girls Too Women
DESCRIPTION:
URL:https://healingartssfl.org/event/girls-too-women/
LOCATION:Windermere Community Center\, 1818 NW 54th Terrace\, Lauderhill\, FL\, 33313\, United States
END:VEVENT
BEGIN:VEVENT
DTSTART;TZID=America/New_York:20220527T183000
DTEND;TZID=America/New_York:20220527T193000
DTSTAMP:20260420T031050
CREATED:20220523T150947Z
LAST-MODIFIED:20220523T150947Z
UID:3488-1653676200-1653679800@healingartssfl.org
SUMMARY:Adult Fitness Class
DESCRIPTION:
URL:https://healingartssfl.org/event/adult-fitness-class/
END:VEVENT
BEGIN:VEVENT
DTSTART;TZID=UTC:20220528T100000
DTEND;TZID=UTC:20220528T120000
DTSTAMP:20260420T031050
CREATED:20220511T172252Z
LAST-MODIFIED:20220601T180701Z
UID:3343-1653732000-1653739200@healingartssfl.org
SUMMARY:Healing Arts Board Meeting
DESCRIPTION:
URL:https://healingartssfl.org/event/healing-arts-board-meeting/
END:VEVENT
BEGIN:VEVENT
DTSTART;TZID=America/New_York:20220528T110000
DTEND;TZID=America/New_York:20220528T130000
DTSTAMP:20260420T031050
CREATED:20220523T151150Z
LAST-MODIFIED:20220523T151150Z
UID:3490-1653735600-1653742800@healingartssfl.org
SUMMARY:Wild Talks at the Park
DESCRIPTION:
URL:https://healingartssfl.org/event/wild-talks-at-the-park/
LOCATION:Snyder Park
END:VEVENT
BEGIN:VEVENT
DTSTART;TZID=UTC:20220529T090000
DTEND;TZID=UTC:20220529T140000
DTSTAMP:20260420T031050
CREATED:20220511T171010Z
LAST-MODIFIED:20220511T171010Z
UID:3323-1653814800-1653832800@healingartssfl.org
SUMMARY:Tamarac Community Farmers Market
DESCRIPTION:
URL:https://healingartssfl.org/event/tamarac-community-farmers-market-3/
LOCATION:7825 Southgate Blvd.\, 7825 Southgate Blvd.\, Tamarac\, FL\, United States
END:VEVENT
END:VCALENDAR