BEGIN:VCALENDAR
VERSION:2.0
PRODID:-//Healing Arts Institute of South Florida - ECPv6.15.20//NONSGML v1.0//EN
CALSCALE:GREGORIAN
METHOD:PUBLISH
X-ORIGINAL-URL:https://healingartssfl.org
X-WR-CALDESC:Events for Healing Arts Institute of South Florida
REFRESH-INTERVAL;VALUE=DURATION:PT1H
X-Robots-Tag:noindex
X-PUBLISHED-TTL:PT1H
BEGIN:VTIMEZONE
TZID:UTC
BEGIN:STANDARD
TZOFFSETFROM:+0000
TZOFFSETTO:+0000
TZNAME:UTC
DTSTART:20210101T000000
END:STANDARD
END:VTIMEZONE
BEGIN:VTIMEZONE
TZID:America/New_York
BEGIN:DAYLIGHT
TZOFFSETFROM:-0500
TZOFFSETTO:-0400
TZNAME:EDT
DTSTART:20210314T070000
END:DAYLIGHT
BEGIN:STANDARD
TZOFFSETFROM:-0400
TZOFFSETTO:-0500
TZNAME:EST
DTSTART:20211107T060000
END:STANDARD
BEGIN:DAYLIGHT
TZOFFSETFROM:-0500
TZOFFSETTO:-0400
TZNAME:EDT
DTSTART:20220313T070000
END:DAYLIGHT
BEGIN:STANDARD
TZOFFSETFROM:-0400
TZOFFSETTO:-0500
TZNAME:EST
DTSTART:20221106T060000
END:STANDARD
BEGIN:DAYLIGHT
TZOFFSETFROM:-0500
TZOFFSETTO:-0400
TZNAME:EDT
DTSTART:20230312T070000
END:DAYLIGHT
BEGIN:STANDARD
TZOFFSETFROM:-0400
TZOFFSETTO:-0500
TZNAME:EST
DTSTART:20231105T060000
END:STANDARD
END:VTIMEZONE
BEGIN:VEVENT
DTSTART;TZID=UTC:20220604T120000
DTEND;TZID=UTC:20220604T160000
DTSTAMP:20260420T012538
CREATED:20220602T184433Z
LAST-MODIFIED:20220602T184433Z
UID:3577-1654344000-1654358400@healingartssfl.org
SUMMARY:Family Safety Day
DESCRIPTION:
URL:https://healingartssfl.org/event/family-safety-day/
LOCATION:Aquatic Center at John Mullin Park\, 2000 Nw 55th Ave\, Lauderhill\, FL\, United States
END:VEVENT
BEGIN:VEVENT
DTSTART;TZID=America/New_York:20220605T100000
DTEND;TZID=America/New_York:20220605T170000
DTSTAMP:20260420T012538
CREATED:20220511T171321Z
LAST-MODIFIED:20220511T171321Z
UID:3325-1654423200-1654448400@healingartssfl.org
SUMMARY:North Miami Beach Street Market Sundays
DESCRIPTION:
URL:https://healingartssfl.org/event/north-miami-beach-street-market-sundays/
LOCATION:16th Street & 19th Ave\, 16th Street & 19th Avenue\, North Miami Beach\, FL\, United States
END:VEVENT
BEGIN:VEVENT
DTSTART;TZID=UTC:20220607T120000
DTEND;TZID=UTC:20220607T170000
DTSTAMP:20260420T012538
CREATED:20220602T195940Z
LAST-MODIFIED:20220602T195940Z
UID:3581-1654603200-1654621200@healingartssfl.org
SUMMARY:Women’s Golf Day
DESCRIPTION:
URL:https://healingartssfl.org/event/womens-golf-day/
LOCATION:Trident Golf Performance & Lifestyle Center\, 4500 SE Pine Valley st\, Port St. Lucie\, FL\, United States
END:VEVENT
BEGIN:VEVENT
DTSTART;TZID=UTC:20220609T183000
DTEND;TZID=UTC:20220609T200000
DTSTAMP:20260420T012538
CREATED:20220610T032151Z
LAST-MODIFIED:20220610T032151Z
UID:3621-1654799400-1654804800@healingartssfl.org
SUMMARY:Move with the Mayor
DESCRIPTION:
URL:https://healingartssfl.org/event/move-with-the-mayor/
LOCATION:Sadkin Community Center\, 1176 Nw 42nd Way\, Lauderhill\, Florida
END:VEVENT
BEGIN:VEVENT
DTSTART;TZID=America/New_York:20220612T100000
DTEND;TZID=America/New_York:20220612T170000
DTSTAMP:20260420T012538
CREATED:20220511T171359Z
LAST-MODIFIED:20220511T171359Z
UID:3329-1655028000-1655053200@healingartssfl.org
SUMMARY:North Miami Beach Street Market Sundays
DESCRIPTION:
URL:https://healingartssfl.org/event/north-miami-beach-street-market-sundays-2/
LOCATION:16th Street & 19th Ave\, 16th Street & 19th Avenue\, North Miami Beach\, FL\, United States
END:VEVENT
BEGIN:VEVENT
DTSTART;TZID=UTC:20220616T110000
DTEND;TZID=UTC:20220616T130000
DTSTAMP:20260420T012538
CREATED:20220609T000041Z
LAST-MODIFIED:20220610T031237Z
UID:3612-1655377200-1655384400@healingartssfl.org
SUMMARY:Tea Time with Seniors
DESCRIPTION:
URL:https://healingartssfl.org/event/tea-time-with-seniors/
LOCATION:Environ Culture Center\, 3800 Environ Blvd\, Lauderhill\, Florida\, 33319
END:VEVENT
BEGIN:VEVENT
DTSTART;TZID=America/New_York:20220617T120000
DTEND;TZID=America/New_York:20220617T140000
DTSTAMP:20260420T012538
CREATED:20220511T190317Z
LAST-MODIFIED:20220610T032311Z
UID:3368-1655467200-1655474400@healingartssfl.org
SUMMARY:Healing Arts Board Meeting
DESCRIPTION:
URL:https://healingartssfl.org/event/healing-arts-board-meeting-2/
END:VEVENT
BEGIN:VEVENT
DTSTART;TZID=America/New_York:20220619T100000
DTEND;TZID=America/New_York:20220619T170000
DTSTAMP:20260420T012538
CREATED:20220511T171429Z
LAST-MODIFIED:20220511T171429Z
UID:3331-1655632800-1655658000@healingartssfl.org
SUMMARY:North Miami Beach Street Market Sundays
DESCRIPTION:
URL:https://healingartssfl.org/event/north-miami-beach-street-market-sundays-3/
LOCATION:16th Street & 19th Ave\, 16th Street & 19th Avenue\, North Miami Beach\, FL\, United States
END:VEVENT
BEGIN:VEVENT
DTSTART;TZID=America/New_York:20220623T100000
DTEND;TZID=America/New_York:20220623T140000
DTSTAMP:20260420T012538
CREATED:20220511T171733Z
LAST-MODIFIED:20220511T171733Z
UID:3335-1655978400-1655992800@healingartssfl.org
SUMMARY:South Florida Job Fair
DESCRIPTION:
URL:https://healingartssfl.org/event/south-florida-job-fair/
LOCATION:FLA Live Arena\, 1 Panther Parkway\, Sunrise\, FL\, 33323\, United States
END:VEVENT
BEGIN:VEVENT
DTSTART;TZID=America/New_York:20220625T180000
DTEND;TZID=America/New_York:20220625T230000
DTSTAMP:20260420T012538
CREATED:20220511T172033Z
LAST-MODIFIED:20220511T172033Z
UID:3339-1656180000-1656198000@healingartssfl.org
SUMMARY:FTL ArtWalk
DESCRIPTION:
URL:https://healingartssfl.org/event/ftl-artwalk/
LOCATION:MASS District\, 844 NE 4th Ave\, Fort Lauderdale\, FL\, 33304\, United States
ORGANIZER;CN="MASS District":MAILTO:create@massdistrict.com
END:VEVENT
BEGIN:VEVENT
DTSTART;TZID=America/New_York:20220626T100000
DTEND;TZID=America/New_York:20220626T170000
DTSTAMP:20260420T012538
CREATED:20220511T171507Z
LAST-MODIFIED:20220511T171507Z
UID:3333-1656237600-1656262800@healingartssfl.org
SUMMARY:North Miami Beach Street Market Sundays
DESCRIPTION:
URL:https://healingartssfl.org/event/north-miami-beach-street-market-sundays-4/
LOCATION:16th Street & 19th Ave\, 16th Street & 19th Avenue\, North Miami Beach\, FL\, United States
END:VEVENT
BEGIN:VEVENT
DTSTART;TZID=UTC:20220627T160000
DTEND;TZID=UTC:20220627T173000
DTSTAMP:20260420T012538
CREATED:20220628T033952Z
LAST-MODIFIED:20220628T033952Z
UID:3671-1656345600-1656351000@healingartssfl.org
SUMMARY:Caribbean Heritage Expression Reception
DESCRIPTION:
URL:https://healingartssfl.org/event/caribbean-heritage-expression-reception/
LOCATION:LauderHill Historical Museum\, 1080 NW 47th Avenue\, Lauderhill\, FL\, 33313\, United States
END:VEVENT
BEGIN:VEVENT
DTSTART;TZID=UTC:20220627T180000
DTEND;TZID=UTC:20220627T190000
DTSTAMP:20260420T012538
CREATED:20220622T191145Z
LAST-MODIFIED:20220622T215259Z
UID:3657-1656352800-1656356400@healingartssfl.org
SUMMARY:Dance Fitness Event
DESCRIPTION:
URL:https://healingartssfl.org/event/dance-fitness-event/
LOCATION:Reggae Pon The Grille\, 8032 W McNab Road\, North Lauderdale\, FL\, 33068\, United States
END:VEVENT
BEGIN:VEVENT
DTSTART;TZID=UTC:20220630T180000
DTEND;TZID=UTC:20220630T210000
DTSTAMP:20260420T012538
CREATED:20220628T033205Z
LAST-MODIFIED:20220628T033205Z
UID:3666-1656612000-1656622800@healingartssfl.org
SUMMARY:Father's Day Food Truck Roll
DESCRIPTION:
URL:https://healingartssfl.org/event/fathers-day-food-truck-roll/
LOCATION:Lauderhill City Hall\, 5581 W. Oakland Park blvd.\, Lauderhill\, FL\, 33313\, United States
END:VEVENT
END:VCALENDAR