BEGIN:VCALENDAR
VERSION:2.0
PRODID:-//Healing Arts Institute of South Florida - ECPv6.15.20//NONSGML v1.0//EN
CALSCALE:GREGORIAN
METHOD:PUBLISH
X-ORIGINAL-URL:https://healingartssfl.org
X-WR-CALDESC:Events for Healing Arts Institute of South Florida
REFRESH-INTERVAL;VALUE=DURATION:PT1H
X-Robots-Tag:noindex
X-PUBLISHED-TTL:PT1H
BEGIN:VTIMEZONE
TZID:America/New_York
BEGIN:DAYLIGHT
TZOFFSETFROM:-0500
TZOFFSETTO:-0400
TZNAME:EDT
DTSTART:20210314T070000
END:DAYLIGHT
BEGIN:STANDARD
TZOFFSETFROM:-0400
TZOFFSETTO:-0500
TZNAME:EST
DTSTART:20211107T060000
END:STANDARD
BEGIN:DAYLIGHT
TZOFFSETFROM:-0500
TZOFFSETTO:-0400
TZNAME:EDT
DTSTART:20220313T070000
END:DAYLIGHT
BEGIN:STANDARD
TZOFFSETFROM:-0400
TZOFFSETTO:-0500
TZNAME:EST
DTSTART:20221106T060000
END:STANDARD
BEGIN:DAYLIGHT
TZOFFSETFROM:-0500
TZOFFSETTO:-0400
TZNAME:EDT
DTSTART:20230312T070000
END:DAYLIGHT
BEGIN:STANDARD
TZOFFSETFROM:-0400
TZOFFSETTO:-0500
TZNAME:EST
DTSTART:20231105T060000
END:STANDARD
END:VTIMEZONE
BEGIN:VTIMEZONE
TZID:UTC
BEGIN:STANDARD
TZOFFSETFROM:+0000
TZOFFSETTO:+0000
TZNAME:UTC
DTSTART:20210101T000000
END:STANDARD
END:VTIMEZONE
BEGIN:VEVENT
DTSTART;TZID=America/New_York:20220703T090000
DTEND;TZID=America/New_York:20220703T140000
DTSTAMP:20260419T234307
CREATED:20220511T185503Z
LAST-MODIFIED:20220511T185503Z
UID:3346-1656838800-1656856800@healingartssfl.org
SUMMARY:Tamarac Community Farmers Market
DESCRIPTION:
URL:https://healingartssfl.org/event/tamarac-community-farmers-market-4/
LOCATION:7825 Southgate Blvd.\, 7825 Southgate Blvd.\, Tamarac\, FL\, United States
END:VEVENT
BEGIN:VEVENT
DTSTART;TZID=America/New_York:20220703T100000
DTEND;TZID=America/New_York:20220703T170000
DTSTAMP:20260419T234307
CREATED:20220511T190031Z
LAST-MODIFIED:20220511T190031Z
UID:3358-1656842400-1656867600@healingartssfl.org
SUMMARY:North Miami Beach Street Market
DESCRIPTION:
URL:https://healingartssfl.org/event/north-miami-beach-street-market/
LOCATION:16th Street & 19th Ave\, 16th Street & 19th Avenue\, North Miami Beach\, FL\, United States
END:VEVENT
BEGIN:VEVENT
DTSTART;TZID=America/New_York:20220710T090000
DTEND;TZID=America/New_York:20220710T140000
DTSTAMP:20260419T234307
CREATED:20220511T185536Z
LAST-MODIFIED:20220511T185536Z
UID:3348-1657443600-1657461600@healingartssfl.org
SUMMARY:Tamarac Community Farmers Market
DESCRIPTION:
URL:https://healingartssfl.org/event/tamarac-community-farmers-market-5/
LOCATION:7825 Southgate Blvd.\, 7825 Southgate Blvd.\, Tamarac\, FL\, United States
END:VEVENT
BEGIN:VEVENT
DTSTART;TZID=America/New_York:20220710T100000
DTEND;TZID=America/New_York:20220710T170000
DTSTAMP:20260419T234307
CREATED:20220511T190057Z
LAST-MODIFIED:20220511T190057Z
UID:3360-1657447200-1657472400@healingartssfl.org
SUMMARY:North Miami Beach Street Market
DESCRIPTION:
URL:https://healingartssfl.org/event/north-miami-beach-street-market-2/
LOCATION:16th Street & 19th Ave\, 16th Street & 19th Avenue\, North Miami Beach\, FL\, United States
END:VEVENT
BEGIN:VEVENT
DTSTART;TZID=UTC:20220715T190000
DTEND;TZID=UTC:20220715T220000
DTSTAMP:20260419T234307
CREATED:20221024T230627Z
LAST-MODIFIED:20221024T230627Z
UID:3975-1657911600-1657922400@healingartssfl.org
SUMMARY:Carter Park Jamz Food Truck Event
DESCRIPTION:
URL:https://healingartssfl.org/event/carter-park-jamz-food-truck-event/
LOCATION:Carter Park\, 1450 W sunrise Boulevard\, Fort Lauderdale\, Florida\, 33311
END:VEVENT
BEGIN:VEVENT
DTSTART;TZID=America/New_York:20220717T090000
DTEND;TZID=America/New_York:20220717T140000
DTSTAMP:20260419T234307
CREATED:20220511T185609Z
LAST-MODIFIED:20220511T185609Z
UID:3350-1658048400-1658066400@healingartssfl.org
SUMMARY:Tamarac Community Farmers Market
DESCRIPTION:
URL:https://healingartssfl.org/event/tamarac-community-farmers-market-6/
LOCATION:7825 Southgate Blvd.\, 7825 Southgate Blvd.\, Tamarac\, FL\, United States
END:VEVENT
BEGIN:VEVENT
DTSTART;TZID=America/New_York:20220717T100000
DTEND;TZID=America/New_York:20220717T170000
DTSTAMP:20260419T234307
CREATED:20220511T190125Z
LAST-MODIFIED:20220511T190125Z
UID:3362-1658052000-1658077200@healingartssfl.org
SUMMARY:North Miami Beach Street Market
DESCRIPTION:
URL:https://healingartssfl.org/event/north-miami-beach-street-market-3/
LOCATION:16th Street & 19th Ave\, 16th Street & 19th Avenue\, North Miami Beach\, FL\, United States
END:VEVENT
BEGIN:VEVENT
DTSTART;TZID=America/New_York:20220723T100000
DTEND;TZID=America/New_York:20220723T120000
DTSTAMP:20260419T234307
CREATED:20220511T190348Z
LAST-MODIFIED:20220511T190348Z
UID:3370-1658570400-1658577600@healingartssfl.org
SUMMARY:Healing Arts Board Meeting
DESCRIPTION:
URL:https://healingartssfl.org/event/healing-arts-board-meeting-3/
END:VEVENT
BEGIN:VEVENT
DTSTART;TZID=UTC:20220723T100000
DTEND;TZID=UTC:20220723T140000
DTSTAMP:20260419T234307
CREATED:20220718T210150Z
LAST-MODIFIED:20220718T210150Z
UID:3713-1658570400-1658584800@healingartssfl.org
SUMMARY:40th Anniversary Carnival
DESCRIPTION:
URL:https://healingartssfl.org/event/40th-anniversary-carnival/
END:VEVENT
BEGIN:VEVENT
DTSTART;TZID=America/New_York:20220724T090000
DTEND;TZID=America/New_York:20220724T140000
DTSTAMP:20260419T234307
CREATED:20220511T185641Z
LAST-MODIFIED:20220511T185641Z
UID:3352-1658653200-1658671200@healingartssfl.org
SUMMARY:Tamarac Community Farmers Market
DESCRIPTION:
URL:https://healingartssfl.org/event/tamarac-community-farmers-market-7/
LOCATION:7825 Southgate Blvd.\, 7825 Southgate Blvd.\, Tamarac\, FL\, United States
END:VEVENT
BEGIN:VEVENT
DTSTART;TZID=America/New_York:20220724T100000
DTEND;TZID=America/New_York:20220724T170000
DTSTAMP:20260419T234307
CREATED:20220511T190204Z
LAST-MODIFIED:20220511T190204Z
UID:3364-1658656800-1658682000@healingartssfl.org
SUMMARY:North Miami Beach Street Market
DESCRIPTION:
URL:https://healingartssfl.org/event/north-miami-beach-street-market-4/
LOCATION:16th Street & 19th Ave\, 16th Street & 19th Avenue\, North Miami Beach\, FL\, United States
END:VEVENT
BEGIN:VEVENT
DTSTART;TZID=UTC:20220728T170000
DTEND;TZID=UTC:20220728T210000
DTSTAMP:20260419T234307
CREATED:20220728T142134Z
LAST-MODIFIED:20220728T142134Z
UID:3775-1659027600-1659042000@healingartssfl.org
SUMMARY:The Lauderhill Food Truck Roll
DESCRIPTION:
URL:https://healingartssfl.org/event/the-lauderhill-food-truck-roll/
LOCATION:Lauderhill City Hall\, 5581 W. Oakland Park blvd.\, Lauderhill\, FL\, 33313\, United States
END:VEVENT
BEGIN:VEVENT
DTSTART;TZID=UTC:20220730T170000
DTEND;TZID=UTC:20220730T230000
DTSTAMP:20260419T234307
CREATED:20220511T185933Z
LAST-MODIFIED:20220511T185933Z
UID:3356-1659200400-1659222000@healingartssfl.org
SUMMARY:FTL ArtWalk
DESCRIPTION:
URL:https://healingartssfl.org/event/ftl-artwalk-2/
LOCATION:MASS District\, 844 NE 4th Ave\, Fort Lauderdale\, FL\, 33304\, United States
ORGANIZER;CN="MASS District":MAILTO:create@massdistrict.com
END:VEVENT
BEGIN:VEVENT
DTSTART;TZID=America/New_York:20220731T090000
DTEND;TZID=America/New_York:20220731T140000
DTSTAMP:20260419T234307
CREATED:20220511T185713Z
LAST-MODIFIED:20220511T185713Z
UID:3354-1659258000-1659276000@healingartssfl.org
SUMMARY:Tamarac Community Farmers Market
DESCRIPTION:
URL:https://healingartssfl.org/event/tamarac-community-farmers-market-8/
LOCATION:7825 Southgate Blvd.\, 7825 Southgate Blvd.\, Tamarac\, FL\, United States
END:VEVENT
BEGIN:VEVENT
DTSTART;TZID=America/New_York:20220731T100000
DTEND;TZID=America/New_York:20220731T170000
DTSTAMP:20260419T234307
CREATED:20220511T190229Z
LAST-MODIFIED:20220511T190229Z
UID:3366-1659261600-1659286800@healingartssfl.org
SUMMARY:North Miami Beach Street Market
DESCRIPTION:
URL:https://healingartssfl.org/event/north-miami-beach-street-market-5/
LOCATION:16th Street & 19th Ave\, 16th Street & 19th Avenue\, North Miami Beach\, FL\, United States
END:VEVENT
END:VCALENDAR