BEGIN:VCALENDAR
VERSION:2.0
PRODID:-//Healing Arts Institute of South Florida - ECPv6.15.20//NONSGML v1.0//EN
CALSCALE:GREGORIAN
METHOD:PUBLISH
X-WR-CALNAME:Healing Arts Institute of South Florida
X-ORIGINAL-URL:https://healingartssfl.org
X-WR-CALDESC:Events for Healing Arts Institute of South Florida
REFRESH-INTERVAL;VALUE=DURATION:PT1H
X-Robots-Tag:noindex
X-PUBLISHED-TTL:PT1H
BEGIN:VTIMEZONE
TZID:America/New_York
BEGIN:DAYLIGHT
TZOFFSETFROM:-0500
TZOFFSETTO:-0400
TZNAME:EDT
DTSTART:20210314T070000
END:DAYLIGHT
BEGIN:STANDARD
TZOFFSETFROM:-0400
TZOFFSETTO:-0500
TZNAME:EST
DTSTART:20211107T060000
END:STANDARD
BEGIN:DAYLIGHT
TZOFFSETFROM:-0500
TZOFFSETTO:-0400
TZNAME:EDT
DTSTART:20220313T070000
END:DAYLIGHT
BEGIN:STANDARD
TZOFFSETFROM:-0400
TZOFFSETTO:-0500
TZNAME:EST
DTSTART:20221106T060000
END:STANDARD
BEGIN:DAYLIGHT
TZOFFSETFROM:-0500
TZOFFSETTO:-0400
TZNAME:EDT
DTSTART:20230312T070000
END:DAYLIGHT
BEGIN:STANDARD
TZOFFSETFROM:-0400
TZOFFSETTO:-0500
TZNAME:EST
DTSTART:20231105T060000
END:STANDARD
END:VTIMEZONE
BEGIN:VTIMEZONE
TZID:UTC
BEGIN:STANDARD
TZOFFSETFROM:+0000
TZOFFSETTO:+0000
TZNAME:UTC
DTSTART:20210101T000000
END:STANDARD
END:VTIMEZONE
BEGIN:VEVENT
DTSTART;TZID=America/New_York:20221002T090000
DTEND;TZID=America/New_York:20221002T140000
DTSTAMP:20260419T183052
CREATED:20220512T164734Z
LAST-MODIFIED:20220512T164734Z
UID:3443-1664701200-1664719200@healingartssfl.org
SUMMARY:Tamarac Community Farmers Market
DESCRIPTION:
URL:https://healingartssfl.org/event/tamarac-community-farmers-market-17/
LOCATION:7825 Southgate Blvd.\, 7825 Southgate Blvd.\, Tamarac\, FL\, United States
END:VEVENT
BEGIN:VEVENT
DTSTART;TZID=America/New_York:20221002T100000
DTEND;TZID=America/New_York:20221002T170000
DTSTAMP:20260419T183052
CREATED:20220512T163900Z
LAST-MODIFIED:20220512T163900Z
UID:3409-1664704800-1664730000@healingartssfl.org
SUMMARY:North Miami Beach Street Market
DESCRIPTION:
URL:https://healingartssfl.org/event/north-miami-beach-street-market-10/
LOCATION:16th Street & 19th Ave\, 16th Street & 19th Avenue\, North Miami Beach\, FL\, United States
END:VEVENT
BEGIN:VEVENT
DTSTART;TZID=America/New_York:20221009T090000
DTEND;TZID=America/New_York:20221009T140000
DTSTAMP:20260419T183052
CREATED:20220512T164759Z
LAST-MODIFIED:20220512T164759Z
UID:3445-1665306000-1665324000@healingartssfl.org
SUMMARY:Tamarac Community Farmers Market
DESCRIPTION:
URL:https://healingartssfl.org/event/tamarac-community-farmers-market-18/
LOCATION:7825 Southgate Blvd.\, 7825 Southgate Blvd.\, Tamarac\, FL\, United States
END:VEVENT
BEGIN:VEVENT
DTSTART;TZID=America/New_York:20221009T100000
DTEND;TZID=America/New_York:20221009T170000
DTSTAMP:20260419T183052
CREATED:20220512T163927Z
LAST-MODIFIED:20220512T163927Z
UID:3411-1665309600-1665334800@healingartssfl.org
SUMMARY:North Miami Beach Street Market
DESCRIPTION:
URL:https://healingartssfl.org/event/north-miami-beach-street-market-11/
LOCATION:16th Street & 19th Ave\, 16th Street & 19th Avenue\, North Miami Beach\, FL\, United States
END:VEVENT
BEGIN:VEVENT
DTSTART;TZID=America/New_York:20221016T090000
DTEND;TZID=America/New_York:20221016T140000
DTSTAMP:20260419T183052
CREATED:20220512T164822Z
LAST-MODIFIED:20220512T164822Z
UID:3447-1665910800-1665928800@healingartssfl.org
SUMMARY:Tamarac Community Farmers Market
DESCRIPTION:
URL:https://healingartssfl.org/event/tamarac-community-farmers-market-19/
LOCATION:7825 Southgate Blvd.\, 7825 Southgate Blvd.\, Tamarac\, FL\, United States
END:VEVENT
BEGIN:VEVENT
DTSTART;TZID=America/New_York:20221016T100000
DTEND;TZID=America/New_York:20221016T170000
DTSTAMP:20260419T183052
CREATED:20220512T163949Z
LAST-MODIFIED:20220512T163949Z
UID:3413-1665914400-1665939600@healingartssfl.org
SUMMARY:North Miami Beach Street Market
DESCRIPTION:
URL:https://healingartssfl.org/event/north-miami-beach-street-market-12/
LOCATION:16th Street & 19th Ave\, 16th Street & 19th Avenue\, North Miami Beach\, FL\, United States
END:VEVENT
BEGIN:VEVENT
DTSTART;TZID=UTC:20221019T090000
DTEND;TZID=UTC:20221019T100000
DTSTAMP:20260419T183052
CREATED:20220728T140808Z
LAST-MODIFIED:20220728T140808Z
UID:3767-1666170000-1666173600@healingartssfl.org
SUMMARY:Tea Time with Seniors
DESCRIPTION:
URL:https://healingartssfl.org/event/tea-time-with-seniors-4/
LOCATION:Sadkin Community Center\, 1176 Nw 42nd Way\, Lauderhill\, Florida
END:VEVENT
BEGIN:VEVENT
DTSTART;TZID=UTC:20221020T090000
DTEND;TZID=UTC:20221020T120000
DTSTAMP:20260419T183052
CREATED:20220815T181932Z
LAST-MODIFIED:20220815T181932Z
UID:3812-1666256400-1666267200@healingartssfl.org
SUMMARY:Free Food Distribution
DESCRIPTION:
URL:https://healingartssfl.org/event/free-food-distribution-3/
LOCATION:Multipurpose Auditorium\, 4340 NW 36th St\, Lauderdale Lakes\, FL\, 33319\, United States
END:VEVENT
BEGIN:VEVENT
DTSTART;TZID=America/New_York:20221022T100000
DTEND;TZID=America/New_York:20221022T120000
DTSTAMP:20260419T183052
CREATED:20220512T165632Z
LAST-MODIFIED:20220512T165632Z
UID:3477-1666432800-1666440000@healingartssfl.org
SUMMARY:Healing Arts Board Meeting
DESCRIPTION:
URL:https://healingartssfl.org/event/healing-arts-board-meeting-6/
END:VEVENT
BEGIN:VEVENT
DTSTART;TZID=America/New_York:20221023T090000
DTEND;TZID=America/New_York:20221023T140000
DTSTAMP:20260419T183052
CREATED:20220512T164848Z
LAST-MODIFIED:20220512T164848Z
UID:3449-1666515600-1666533600@healingartssfl.org
SUMMARY:Tamarac Community Farmers Market
DESCRIPTION:
URL:https://healingartssfl.org/event/tamarac-community-farmers-market-20/
LOCATION:7825 Southgate Blvd.\, 7825 Southgate Blvd.\, Tamarac\, FL\, United States
END:VEVENT
BEGIN:VEVENT
DTSTART;TZID=America/New_York:20221023T100000
DTEND;TZID=America/New_York:20221023T170000
DTSTAMP:20260419T183052
CREATED:20220512T164013Z
LAST-MODIFIED:20220512T164013Z
UID:3415-1666519200-1666544400@healingartssfl.org
SUMMARY:North Miami Beach Street Market
DESCRIPTION:
URL:https://healingartssfl.org/event/north-miami-beach-street-market-13/
LOCATION:16th Street & 19th Ave\, 16th Street & 19th Avenue\, North Miami Beach\, FL\, United States
END:VEVENT
BEGIN:VEVENT
DTSTART;TZID=UTC:20221026T180000
DTEND;TZID=UTC:20221026T200000
DTSTAMP:20260419T183052
CREATED:20220707T215725Z
LAST-MODIFIED:20220707T215725Z
UID:3690-1666807200-1666814400@healingartssfl.org
SUMMARY:Emmanuel Ogbah Celebrity & Charity Topgolf Event
DESCRIPTION:
URL:https://healingartssfl.org/event/emmanuel-ogbah-celebrity-charity-topgolf-event/
LOCATION:TopGolf\, 17321 NW 7th Ave\, Miami Gardens\, FL\, 33169\, United States
END:VEVENT
BEGIN:VEVENT
DTSTART;TZID=UTC:20221029T150000
DTEND;TZID=UTC:20221029T170000
DTSTAMP:20260419T183052
CREATED:20221029T190709Z
LAST-MODIFIED:20221029T190709Z
UID:4050-1667055600-1667062800@healingartssfl.org
SUMMARY:Trunk Or Treat Event
DESCRIPTION:
URL:https://healingartssfl.org/event/trunk-or-treat-event/
LOCATION:The Healing Arts Institute\, 4699 N State Rd 7\, Ste. B1\, Tamarac\, FL\, 33319
ORGANIZER;CN="Healing Arts Institute of South Florida":MAILTO:info@healingartssfl.org
END:VEVENT
BEGIN:VEVENT
DTSTART;TZID=America/New_York:20221030T080000
DTEND;TZID=America/New_York:20221030T170000
DTSTAMP:20260419T183052
CREATED:20220512T164036Z
LAST-MODIFIED:20220512T164036Z
UID:3417-1667116800-1667149200@healingartssfl.org
SUMMARY:North Miami Beach Street Market
DESCRIPTION:
URL:https://healingartssfl.org/event/north-miami-beach-street-market-14/
LOCATION:16th Street & 19th Ave\, 16th Street & 19th Avenue\, North Miami Beach\, FL\, United States
END:VEVENT
BEGIN:VEVENT
DTSTART;TZID=America/New_York:20221030T090000
DTEND;TZID=America/New_York:20221030T140000
DTSTAMP:20260419T183052
CREATED:20220512T164912Z
LAST-MODIFIED:20220512T164912Z
UID:3451-1667120400-1667138400@healingartssfl.org
SUMMARY:Tamarac Community Farmers Market
DESCRIPTION:
URL:https://healingartssfl.org/event/tamarac-community-farmers-market-21/
LOCATION:7825 Southgate Blvd.\, 7825 Southgate Blvd.\, Tamarac\, FL\, United States
END:VEVENT
END:VCALENDAR