BEGIN:VCALENDAR
VERSION:2.0
PRODID:-//Healing Arts Institute of South Florida - ECPv6.15.20//NONSGML v1.0//EN
CALSCALE:GREGORIAN
METHOD:PUBLISH
X-ORIGINAL-URL:https://healingartssfl.org
X-WR-CALDESC:Events for Healing Arts Institute of South Florida
REFRESH-INTERVAL;VALUE=DURATION:PT1H
X-Robots-Tag:noindex
X-PUBLISHED-TTL:PT1H
BEGIN:VTIMEZONE
TZID:UTC
BEGIN:STANDARD
TZOFFSETFROM:+0000
TZOFFSETTO:+0000
TZNAME:UTC
DTSTART:20210101T000000
END:STANDARD
END:VTIMEZONE
BEGIN:VTIMEZONE
TZID:America/New_York
BEGIN:DAYLIGHT
TZOFFSETFROM:-0500
TZOFFSETTO:-0400
TZNAME:EDT
DTSTART:20210314T070000
END:DAYLIGHT
BEGIN:STANDARD
TZOFFSETFROM:-0400
TZOFFSETTO:-0500
TZNAME:EST
DTSTART:20211107T060000
END:STANDARD
BEGIN:DAYLIGHT
TZOFFSETFROM:-0500
TZOFFSETTO:-0400
TZNAME:EDT
DTSTART:20220313T070000
END:DAYLIGHT
BEGIN:STANDARD
TZOFFSETFROM:-0400
TZOFFSETTO:-0500
TZNAME:EST
DTSTART:20221106T060000
END:STANDARD
BEGIN:DAYLIGHT
TZOFFSETFROM:-0500
TZOFFSETTO:-0400
TZNAME:EDT
DTSTART:20230312T070000
END:DAYLIGHT
BEGIN:STANDARD
TZOFFSETFROM:-0400
TZOFFSETTO:-0500
TZNAME:EST
DTSTART:20231105T060000
END:STANDARD
END:VTIMEZONE
BEGIN:VEVENT
DTSTART;VALUE=DATE:20221129
DTEND;VALUE=DATE:20221213
DTSTAMP:20260419T153242
CREATED:20221129T175931Z
LAST-MODIFIED:20221129T175931Z
UID:4243-1669680000-1670889599@healingartssfl.org
SUMMARY:The City Of Lauderhill Holiday Toy Drive Event
DESCRIPTION:
URL:https://healingartssfl.org/event/the-city-of-lauderhill-holiday-toy-drive-event/
LOCATION:Joy Roti Delight
END:VEVENT
BEGIN:VEVENT
DTSTART;TZID=UTC:20221202T180000
DTEND;TZID=UTC:20221202T180000
DTSTAMP:20260419T153242
CREATED:20221129T182256Z
LAST-MODIFIED:20221129T182256Z
UID:4255-1670004000-1670004000@healingartssfl.org
SUMMARY:The city of Lauderdale Lakes Holiday Tree Lighting
DESCRIPTION:
URL:https://healingartssfl.org/event/the-city-of-lauderdale-lakes-holiday-tree-lighting/
LOCATION:Samuel Brown Monument\, NW 36th street\, Lauderdale Lakes\, florida\, 33319
END:VEVENT
BEGIN:VEVENT
DTSTART;TZID=America/New_York:20221204T090000
DTEND;TZID=America/New_York:20221204T140000
DTSTAMP:20260419T153242
CREATED:20220512T165131Z
LAST-MODIFIED:20220512T165131Z
UID:3461-1670144400-1670162400@healingartssfl.org
SUMMARY:Tamarac Community Farmers Market
DESCRIPTION:
URL:https://healingartssfl.org/event/tamarac-community-farmers-market-26/
LOCATION:7825 Southgate Blvd.\, 7825 Southgate Blvd.\, Tamarac\, FL\, United States
END:VEVENT
BEGIN:VEVENT
DTSTART;TZID=America/New_York:20221204T100000
DTEND;TZID=America/New_York:20221204T170000
DTSTAMP:20260419T153242
CREATED:20220512T164259Z
LAST-MODIFIED:20220512T164259Z
UID:3427-1670148000-1670173200@healingartssfl.org
SUMMARY:North Miami Beach Street Market
DESCRIPTION:
URL:https://healingartssfl.org/event/north-miami-beach-street-market-19/
LOCATION:16th Street & 19th Ave\, 16th Street & 19th Avenue\, North Miami Beach\, FL\, United States
END:VEVENT
BEGIN:VEVENT
DTSTART;TZID=UTC:20221209T120000
DTEND;TZID=UTC:20221209T133000
DTSTAMP:20260419T153242
CREATED:20221129T181211Z
LAST-MODIFIED:20221129T181211Z
UID:4252-1670587200-1670592600@healingartssfl.org
SUMMARY:Dine in Lauderhill Lunch Meetup Event
DESCRIPTION:
URL:https://healingartssfl.org/event/dine-in-lauderhill-lunch-meetup-event/
LOCATION:Ohana Bakery & Bistro\, 4613 N university Drive\, Lauderhill\, Florida\, 33351
END:VEVENT
BEGIN:VEVENT
DTSTART;TZID=America/New_York:20221211T090000
DTEND;TZID=America/New_York:20221211T140000
DTSTAMP:20260419T153242
CREATED:20220512T165154Z
LAST-MODIFIED:20220512T165154Z
UID:3463-1670749200-1670767200@healingartssfl.org
SUMMARY:Tamarac Community Farmers Market
DESCRIPTION:
URL:https://healingartssfl.org/event/tamarac-community-farmers-market-27/
LOCATION:7825 Southgate Blvd.\, 7825 Southgate Blvd.\, Tamarac\, FL\, United States
END:VEVENT
BEGIN:VEVENT
DTSTART;TZID=America/New_York:20221211T100000
DTEND;TZID=America/New_York:20221211T170000
DTSTAMP:20260419T153242
CREATED:20220512T164323Z
LAST-MODIFIED:20220512T164323Z
UID:3429-1670752800-1670778000@healingartssfl.org
SUMMARY:North Miami Beach Street Market
DESCRIPTION:
URL:https://healingartssfl.org/event/north-miami-beach-street-market-20/
LOCATION:16th Street & 19th Ave\, 16th Street & 19th Avenue\, North Miami Beach\, FL\, United States
END:VEVENT
BEGIN:VEVENT
DTSTART;TZID=UTC:20221215T090000
DTEND;TZID=UTC:20221215T120000
DTSTAMP:20260419T153242
CREATED:20220815T182508Z
LAST-MODIFIED:20220815T182508Z
UID:3816-1671094800-1671105600@healingartssfl.org
SUMMARY:Free Food Distribution
DESCRIPTION:
URL:https://healingartssfl.org/event/free-food-distribution-5/
LOCATION:Multipurpose Auditorium\, 4340 NW 36th St\, Lauderdale Lakes\, FL\, 33319\, United States
END:VEVENT
BEGIN:VEVENT
DTSTART;TZID=America/New_York:20221217T100000
DTEND;TZID=America/New_York:20221217T120000
DTSTAMP:20260419T153242
CREATED:20220512T165714Z
LAST-MODIFIED:20220512T165714Z
UID:3481-1671271200-1671278400@healingartssfl.org
SUMMARY:Healing Arts Board Meeting
DESCRIPTION:
URL:https://healingartssfl.org/event/healing-arts-board-meeting-8/
END:VEVENT
BEGIN:VEVENT
DTSTART;TZID=America/New_York:20221218T090000
DTEND;TZID=America/New_York:20221218T140000
DTSTAMP:20260419T153242
CREATED:20220512T165217Z
LAST-MODIFIED:20220512T165217Z
UID:3465-1671354000-1671372000@healingartssfl.org
SUMMARY:Tamarac Community Farmers Market
DESCRIPTION:
URL:https://healingartssfl.org/event/tamarac-community-farmers-market-28/
LOCATION:7825 Southgate Blvd.\, 7825 Southgate Blvd.\, Tamarac\, FL\, United States
END:VEVENT
BEGIN:VEVENT
DTSTART;TZID=America/New_York:20221218T100000
DTEND;TZID=America/New_York:20221218T170000
DTSTAMP:20260419T153242
CREATED:20220512T164346Z
LAST-MODIFIED:20220512T164346Z
UID:3431-1671357600-1671382800@healingartssfl.org
SUMMARY:North Miami Beach Street Market
DESCRIPTION:
URL:https://healingartssfl.org/event/north-miami-beach-street-market-21/
LOCATION:16th Street & 19th Ave\, 16th Street & 19th Avenue\, North Miami Beach\, FL\, United States
END:VEVENT
BEGIN:VEVENT
DTSTART;TZID=UTC:20221221T090000
DTEND;TZID=UTC:20221221T100000
DTSTAMP:20260419T153242
CREATED:20220728T141131Z
LAST-MODIFIED:20220728T141131Z
UID:3771-1671613200-1671616800@healingartssfl.org
SUMMARY:Tea Time with Seniors
DESCRIPTION:
URL:https://healingartssfl.org/event/tea-time-with-seniors-6/
LOCATION:Sadkin Community Center\, 1176 Nw 42nd Way\, Lauderhill\, Florida
END:VEVENT
BEGIN:VEVENT
DTSTART;TZID=America/New_York:20221224T170000
DTEND;TZID=America/New_York:20221224T230000
DTSTAMP:20260419T153242
CREATED:20220512T165447Z
LAST-MODIFIED:20220512T165447Z
UID:3471-1671901200-1671922800@healingartssfl.org
SUMMARY:FTL ArtWalk
DESCRIPTION:
URL:https://healingartssfl.org/event/ftl-artwalk-6/
LOCATION:MASS District\, 844 NE 4th Ave\, Fort Lauderdale\, FL\, 33304\, United States
ORGANIZER;CN="MASS District":MAILTO:create@massdistrict.com
END:VEVENT
BEGIN:VEVENT
DTSTART;TZID=America/New_York:20221225T090000
DTEND;TZID=America/New_York:20221225T140000
DTSTAMP:20260419T153242
CREATED:20220512T165242Z
LAST-MODIFIED:20220512T165242Z
UID:3467-1671958800-1671976800@healingartssfl.org
SUMMARY:Tamarac Community Farmers Market
DESCRIPTION:
URL:https://healingartssfl.org/event/tamarac-community-farmers-market-29/
LOCATION:7825 Southgate Blvd.\, 7825 Southgate Blvd.\, Tamarac\, FL\, United States
END:VEVENT
BEGIN:VEVENT
DTSTART;TZID=America/New_York:20221225T100000
DTEND;TZID=America/New_York:20221225T170000
DTSTAMP:20260419T153242
CREATED:20220512T164414Z
LAST-MODIFIED:20220512T164414Z
UID:3433-1671962400-1671987600@healingartssfl.org
SUMMARY:North Miami Beach Street Market
DESCRIPTION:
URL:https://healingartssfl.org/event/north-miami-beach-street-market-22/
LOCATION:16th Street & 19th Ave\, 16th Street & 19th Avenue\, North Miami Beach\, FL\, United States
END:VEVENT
END:VCALENDAR