BEGIN:VCALENDAR
VERSION:2.0
PRODID:-//Healing Arts Institute of South Florida - ECPv6.15.20//NONSGML v1.0//EN
CALSCALE:GREGORIAN
METHOD:PUBLISH
X-WR-CALNAME:Healing Arts Institute of South Florida
X-ORIGINAL-URL:https://healingartssfl.org
X-WR-CALDESC:Events for Healing Arts Institute of South Florida
REFRESH-INTERVAL;VALUE=DURATION:PT1H
X-Robots-Tag:noindex
X-PUBLISHED-TTL:PT1H
BEGIN:VTIMEZONE
TZID:UTC
BEGIN:STANDARD
TZOFFSETFROM:+0000
TZOFFSETTO:+0000
TZNAME:UTC
DTSTART:20220101T000000
END:STANDARD
END:VTIMEZONE
BEGIN:VEVENT
DTSTART;TZID=UTC:20230119T173000
DTEND;TZID=UTC:20230201T200000
DTSTAMP:20260419T122112
CREATED:20230106T170711Z
LAST-MODIFIED:20230106T170711Z
UID:4345-1674149400-1675281600@healingartssfl.org
SUMMARY:HEAL Team Meet & Greet
DESCRIPTION:
URL:https://healingartssfl.org/event/heal-team-meet-greet/
LOCATION:Baldwin Academy\, 1161 SW 30th Avenue\, Fort Lauderdale\, FL\, 33312
END:VEVENT
BEGIN:VEVENT
DTSTART;TZID=UTC:20230210T120000
DTEND;TZID=UTC:20230210T133000
DTSTAMP:20260419T122112
CREATED:20230208T204828Z
LAST-MODIFIED:20230208T204828Z
UID:4397-1676030400-1676035800@healingartssfl.org
SUMMARY:Lunch with Commissioner Dunn
DESCRIPTION:
URL:https://healingartssfl.org/event/lunch-with-commissioner-dunn/
END:VEVENT
BEGIN:VEVENT
DTSTART;TZID=UTC:20230217T183000
DTEND;TZID=UTC:20230217T203000
DTSTAMP:20260419T122112
CREATED:20230208T205004Z
LAST-MODIFIED:20230208T205004Z
UID:4399-1676658600-1676665800@healingartssfl.org
SUMMARY:Family Nights At Windermere Community Center
DESCRIPTION:
URL:https://healingartssfl.org/event/family-nights-at-windermere-community-center/
LOCATION:Windermere Community Center\, 1818 NW 54th Terrace\, Lauderhill\, FL\, 33313\, United States
END:VEVENT
BEGIN:VEVENT
DTSTART;TZID=UTC:20230218T100000
DTEND;TZID=UTC:20230218T140000
DTSTAMP:20260419T122112
CREATED:20230207T183942Z
LAST-MODIFIED:20230207T183942Z
UID:4395-1676714400-1676728800@healingartssfl.org
SUMMARY:Healing Arts H.E.A.L Team Presents: Raising Entrepreneurs A Pathway to Success Workshop for Business Ownership
DESCRIPTION:Honoring the Entrepreneurial spirit and constant innovation African American people have shown throughout history. Turning Talents into Dollar Signs Vision Board Party.
URL:https://healingartssfl.org/event/healing-arts-h-e-a-l-team-presents-raising-entrepreneurs-a-pathway-to-success-workshop-for-business-ownership/
LOCATION:The Healing Arts Institute\, 4699 N State Rd 7\, Ste. B1\, Tamarac\, FL\, 33319
END:VEVENT
BEGIN:VEVENT
DTSTART;TZID=UTC:20230223T170000
DTEND;TZID=UTC:20230223T210000
DTSTAMP:20260419T122112
CREATED:20230208T205056Z
LAST-MODIFIED:20230208T205056Z
UID:4401-1677171600-1677186000@healingartssfl.org
SUMMARY:Lauderhill Food Truck Roll
DESCRIPTION:
URL:https://healingartssfl.org/event/lauderhill-food-truck-roll/
LOCATION:Lauderhill City Hall\, 5581 W. Oakland Park blvd.\, Lauderhill\, FL\, 33313\, United States
END:VEVENT
BEGIN:VEVENT
DTSTART;TZID=UTC:20230225T120000
DTEND;TZID=UTC:20230225T170000
DTSTAMP:20260419T122112
CREATED:20220722T171256Z
LAST-MODIFIED:20220722T171256Z
UID:3720-1677326400-1677344400@healingartssfl.org
SUMMARY:Healing Arts Institute of South Florida's 3rd Annual Charity Golf Tournament
DESCRIPTION:
URL:https://healingartssfl.org/event/healing-arts-institute-of-south-floridas-3rd-annual-charity-golf-tournament/
LOCATION:Country Club of Coral Springs\, 10800 W Sample Rd\, Coral Springs\, FL\, 33065\, United States
ORGANIZER;CN="Healing Arts Institute of South Florida":MAILTO:info@healingartssfl.org
END:VEVENT
END:VCALENDAR